BEGIN:VCALENDAR
VERSION:2.0
PRODID:-//KV Oasis Youth Outreach - ECPv6.15.16//NONSGML v1.0//EN
CALSCALE:GREGORIAN
METHOD:PUBLISH
X-ORIGINAL-URL:https://kvoasis.com
X-WR-CALDESC:Events for KV Oasis Youth Outreach
REFRESH-INTERVAL;VALUE=DURATION:PT1H
X-Robots-Tag:noindex
X-PUBLISHED-TTL:PT1H
BEGIN:VTIMEZONE
TZID:America/Moncton
BEGIN:DAYLIGHT
TZOFFSETFROM:-0400
TZOFFSETTO:-0300
TZNAME:ADT
DTSTART:20250309T060000
END:DAYLIGHT
BEGIN:STANDARD
TZOFFSETFROM:-0300
TZOFFSETTO:-0400
TZNAME:AST
DTSTART:20251102T050000
END:STANDARD
BEGIN:DAYLIGHT
TZOFFSETFROM:-0400
TZOFFSETTO:-0300
TZNAME:ADT
DTSTART:20260308T060000
END:DAYLIGHT
BEGIN:STANDARD
TZOFFSETFROM:-0300
TZOFFSETTO:-0400
TZNAME:AST
DTSTART:20261101T050000
END:STANDARD
BEGIN:DAYLIGHT
TZOFFSETFROM:-0400
TZOFFSETTO:-0300
TZNAME:ADT
DTSTART:20270314T060000
END:DAYLIGHT
BEGIN:STANDARD
TZOFFSETFROM:-0300
TZOFFSETTO:-0400
TZNAME:AST
DTSTART:20271107T050000
END:STANDARD
END:VTIMEZONE
BEGIN:VEVENT
DTSTART;TZID=America/Moncton:20260409T183000
DTEND;TZID=America/Moncton:20260409T193000
DTSTAMP:20260424T165014
CREATED:20260218T163445Z
LAST-MODIFIED:20260218T163445Z
UID:10003756-1775759400-1775763000@kvoasis.com
SUMMARY:Gamers Lounge
DESCRIPTION:Join us Thursday evenings for a fun\, drop-in gaming event! Come game\, enjoy snacks and company of other peers at KV Oasis.
URL:https://kvoasis.com/event/gamers-lounge/2026-04-09/
LOCATION:KV Oasis Youth Centre\, 221 Hampton Road - Unit 4\, Quispamsis\, NB\, E2E 4L8\, Canada
ATTACH;FMTTYPE=image/png:https://kvoasis.com/wp-content/uploads/2026/02/Dark-Blue-and-Purple-Minimalist-Game-Night-Flyer-1.png
END:VEVENT
END:VCALENDAR