BEGIN:VCALENDAR
VERSION:2.0
PRODID:-//KV Oasis Youth Outreach - ECPv6.15.16//NONSGML v1.0//EN
CALSCALE:GREGORIAN
METHOD:PUBLISH
X-WR-CALNAME:KV Oasis Youth Outreach
X-ORIGINAL-URL:https://kvoasis.com
X-WR-CALDESC:Events for KV Oasis Youth Outreach
REFRESH-INTERVAL;VALUE=DURATION:PT1H
X-Robots-Tag:noindex
X-PUBLISHED-TTL:PT1H
BEGIN:VTIMEZONE
TZID:America/Moncton
BEGIN:DAYLIGHT
TZOFFSETFROM:-0400
TZOFFSETTO:-0300
TZNAME:ADT
DTSTART:20240310T060000
END:DAYLIGHT
BEGIN:STANDARD
TZOFFSETFROM:-0300
TZOFFSETTO:-0400
TZNAME:AST
DTSTART:20241103T050000
END:STANDARD
BEGIN:DAYLIGHT
TZOFFSETFROM:-0400
TZOFFSETTO:-0300
TZNAME:ADT
DTSTART:20250309T060000
END:DAYLIGHT
BEGIN:STANDARD
TZOFFSETFROM:-0300
TZOFFSETTO:-0400
TZNAME:AST
DTSTART:20251102T050000
END:STANDARD
BEGIN:DAYLIGHT
TZOFFSETFROM:-0400
TZOFFSETTO:-0300
TZNAME:ADT
DTSTART:20260308T060000
END:DAYLIGHT
BEGIN:STANDARD
TZOFFSETFROM:-0300
TZOFFSETTO:-0400
TZNAME:AST
DTSTART:20261101T050000
END:STANDARD
END:VTIMEZONE
BEGIN:VEVENT
DTSTART;TZID=America/Moncton:20251102T140000
DTEND;TZID=America/Moncton:20251102T160000
DTSTAMP:20260425T082320
CREATED:20251103T181041Z
LAST-MODIFIED:20251103T181421Z
UID:10002915-1762092000-1762099200@kvoasis.com
SUMMARY:Lego Club
DESCRIPTION:We’re thrilled to announce the launch of our NEW **LEGO Club** at KV Oasis! This fantastic initiative\, led by four of our youth volunteer committee students\, is designed not only to encourage creativity but also to promote crime prevention through positive engagement.\n\n\nBuilding with LEGO fosters teamwork\, communication\, and problem-solving skills\, helping to create a stronger\, safer community. By providing a space for youth to come together\, we aim to reduce the risk of negative influences and encourage friendships built on collaboration and creativity.\n\n\nLocation:** 221 Hampton Road\, Unit #3\, Quispamsis\, NB\nEvery Sunday from 2 PM to 4 PM
URL:https://kvoasis.com/event/lego-club/2025-11-02/
LOCATION:KV Oasis Youth Centre\, 221 Hampton Road - Unit 4\, Quispamsis\, NB\, E2E 4L8\, Canada
ATTACH;FMTTYPE=image/png:https://kvoasis.com/wp-content/uploads/2025/11/kv-scaled.png
END:VEVENT
BEGIN:VEVENT
DTSTART;TZID=America/Moncton:20251029T180000
DTEND;TZID=America/Moncton:20251029T200000
DTSTAMP:20260425T082320
CREATED:20250919T124111Z
LAST-MODIFIED:20260218T162303Z
UID:10003472-1761760800-1761768000@kvoasis.com
SUMMARY:Student-Led Tutoring
DESCRIPTION:Wednesday’s from 6pm-8pm. Bring your homework\, bring your friends and enjoy some snacks! A fantastic opportunity to get your school work done in a comfortable and welcoming environment with FREE tutoring from Grade. 11 students\, Mya and Alexa!
URL:https://kvoasis.com/event/student-led-tutoring/2025-10-29/
LOCATION:KV Oasis Youth Centre\, 221 Hampton Road - Unit 4\, Quispamsis\, NB\, E2E 4L8\, Canada
ATTACH;FMTTYPE=image/png:https://kvoasis.com/wp-content/uploads/2025/09/Student-Led-Tutoring-2026-scaled.png
END:VEVENT
BEGIN:VEVENT
DTSTART;TZID=America/Moncton:20251028T120000
DTEND;TZID=America/Moncton:20251028T133000
DTSTAMP:20260425T082320
CREATED:20250919T123527Z
LAST-MODIFIED:20260423T142102Z
UID:10004806-1761652800-1761658200@kvoasis.com
SUMMARY:Baby Oasis
DESCRIPTION:Drop in for Baby Oasis Playgroup every Tuesday!  Location: 221 Hampton Road\, Quispamsis Time: 12:00 pm – 1:30 PM \nThe FIRST TUESDAY of every month\, Public Health will be joining us! \nThis is a wonderful opportunity for parents and caregivers of little ones aged 0-18 months. Not only will your babies develop essential skills\, but you’ll also find social support and enhance your mental health. Plus\, enjoy some coffee\, snacks\, and great company! Let’s make playtime a joyful and supportive experience for everyone!Questions? Reach out to sarah.margeson@kvoasis.com
URL:https://kvoasis.com/event/baby-oasis/2025-10-28/
LOCATION:KV Oasis Youth Centre\, 221 Hampton Road - Unit 4\, Quispamsis\, NB\, E2E 4L8\, Canada
ATTACH;FMTTYPE=image/jpeg:https://kvoasis.com/wp-content/uploads/2025/09/image0-12.jpeg
END:VEVENT
BEGIN:VEVENT
DTSTART;TZID=America/Moncton:20251022T180000
DTEND;TZID=America/Moncton:20251022T200000
DTSTAMP:20260425T082320
CREATED:20250919T124111Z
LAST-MODIFIED:20260218T162303Z
UID:10003471-1761156000-1761163200@kvoasis.com
SUMMARY:Student-Led Tutoring
DESCRIPTION:Wednesday’s from 6pm-8pm. Bring your homework\, bring your friends and enjoy some snacks! A fantastic opportunity to get your school work done in a comfortable and welcoming environment with FREE tutoring from Grade. 11 students\, Mya and Alexa!
URL:https://kvoasis.com/event/student-led-tutoring/2025-10-22/
LOCATION:KV Oasis Youth Centre\, 221 Hampton Road - Unit 4\, Quispamsis\, NB\, E2E 4L8\, Canada
ATTACH;FMTTYPE=image/png:https://kvoasis.com/wp-content/uploads/2025/09/Student-Led-Tutoring-2026-scaled.png
END:VEVENT
BEGIN:VEVENT
DTSTART;TZID=America/Moncton:20251021T120000
DTEND;TZID=America/Moncton:20251021T133000
DTSTAMP:20260425T082320
CREATED:20250919T123527Z
LAST-MODIFIED:20260423T142102Z
UID:10004805-1761048000-1761053400@kvoasis.com
SUMMARY:Baby Oasis
DESCRIPTION:Drop in for Baby Oasis Playgroup every Tuesday!  Location: 221 Hampton Road\, Quispamsis Time: 12:00 pm – 1:30 PM \nThe FIRST TUESDAY of every month\, Public Health will be joining us! \nThis is a wonderful opportunity for parents and caregivers of little ones aged 0-18 months. Not only will your babies develop essential skills\, but you’ll also find social support and enhance your mental health. Plus\, enjoy some coffee\, snacks\, and great company! Let’s make playtime a joyful and supportive experience for everyone!Questions? Reach out to sarah.margeson@kvoasis.com
URL:https://kvoasis.com/event/baby-oasis/2025-10-21/
LOCATION:KV Oasis Youth Centre\, 221 Hampton Road - Unit 4\, Quispamsis\, NB\, E2E 4L8\, Canada
ATTACH;FMTTYPE=image/jpeg:https://kvoasis.com/wp-content/uploads/2025/09/image0-12.jpeg
END:VEVENT
BEGIN:VEVENT
DTSTART;TZID=America/Moncton:20251015T180000
DTEND;TZID=America/Moncton:20251015T200000
DTSTAMP:20260425T082320
CREATED:20250919T124111Z
LAST-MODIFIED:20260218T162303Z
UID:10003470-1760551200-1760558400@kvoasis.com
SUMMARY:Student-Led Tutoring
DESCRIPTION:Wednesday’s from 6pm-8pm. Bring your homework\, bring your friends and enjoy some snacks! A fantastic opportunity to get your school work done in a comfortable and welcoming environment with FREE tutoring from Grade. 11 students\, Mya and Alexa!
URL:https://kvoasis.com/event/student-led-tutoring/2025-10-15/
LOCATION:KV Oasis Youth Centre\, 221 Hampton Road - Unit 4\, Quispamsis\, NB\, E2E 4L8\, Canada
ATTACH;FMTTYPE=image/png:https://kvoasis.com/wp-content/uploads/2025/09/Student-Led-Tutoring-2026-scaled.png
END:VEVENT
BEGIN:VEVENT
DTSTART;TZID=America/Moncton:20251014T120000
DTEND;TZID=America/Moncton:20251014T133000
DTSTAMP:20260425T082320
CREATED:20250919T123527Z
LAST-MODIFIED:20260423T142102Z
UID:10004804-1760443200-1760448600@kvoasis.com
SUMMARY:Baby Oasis
DESCRIPTION:Drop in for Baby Oasis Playgroup every Tuesday!  Location: 221 Hampton Road\, Quispamsis Time: 12:00 pm – 1:30 PM \nThe FIRST TUESDAY of every month\, Public Health will be joining us! \nThis is a wonderful opportunity for parents and caregivers of little ones aged 0-18 months. Not only will your babies develop essential skills\, but you’ll also find social support and enhance your mental health. Plus\, enjoy some coffee\, snacks\, and great company! Let’s make playtime a joyful and supportive experience for everyone!Questions? Reach out to sarah.margeson@kvoasis.com
URL:https://kvoasis.com/event/baby-oasis/2025-10-14/
LOCATION:KV Oasis Youth Centre\, 221 Hampton Road - Unit 4\, Quispamsis\, NB\, E2E 4L8\, Canada
ATTACH;FMTTYPE=image/jpeg:https://kvoasis.com/wp-content/uploads/2025/09/image0-12.jpeg
END:VEVENT
BEGIN:VEVENT
DTSTART;TZID=America/Moncton:20251008T180000
DTEND;TZID=America/Moncton:20251008T200000
DTSTAMP:20260425T082320
CREATED:20250919T124111Z
LAST-MODIFIED:20260218T162303Z
UID:10003469-1759946400-1759953600@kvoasis.com
SUMMARY:Student-Led Tutoring
DESCRIPTION:Wednesday’s from 6pm-8pm. Bring your homework\, bring your friends and enjoy some snacks! A fantastic opportunity to get your school work done in a comfortable and welcoming environment with FREE tutoring from Grade. 11 students\, Mya and Alexa!
URL:https://kvoasis.com/event/student-led-tutoring/2025-10-08/
LOCATION:KV Oasis Youth Centre\, 221 Hampton Road - Unit 4\, Quispamsis\, NB\, E2E 4L8\, Canada
ATTACH;FMTTYPE=image/png:https://kvoasis.com/wp-content/uploads/2025/09/Student-Led-Tutoring-2026-scaled.png
END:VEVENT
BEGIN:VEVENT
DTSTART;TZID=America/Moncton:20251007T120000
DTEND;TZID=America/Moncton:20251007T133000
DTSTAMP:20260425T082320
CREATED:20250919T123527Z
LAST-MODIFIED:20260423T142102Z
UID:10004803-1759838400-1759843800@kvoasis.com
SUMMARY:Baby Oasis
DESCRIPTION:Drop in for Baby Oasis Playgroup every Tuesday!  Location: 221 Hampton Road\, Quispamsis Time: 12:00 pm – 1:30 PM \nThe FIRST TUESDAY of every month\, Public Health will be joining us! \nThis is a wonderful opportunity for parents and caregivers of little ones aged 0-18 months. Not only will your babies develop essential skills\, but you’ll also find social support and enhance your mental health. Plus\, enjoy some coffee\, snacks\, and great company! Let’s make playtime a joyful and supportive experience for everyone!Questions? Reach out to sarah.margeson@kvoasis.com
URL:https://kvoasis.com/event/baby-oasis/2025-10-07/
LOCATION:KV Oasis Youth Centre\, 221 Hampton Road - Unit 4\, Quispamsis\, NB\, E2E 4L8\, Canada
ATTACH;FMTTYPE=image/jpeg:https://kvoasis.com/wp-content/uploads/2025/09/image0-12.jpeg
END:VEVENT
BEGIN:VEVENT
DTSTART;TZID=America/Moncton:20251001T180000
DTEND;TZID=America/Moncton:20251001T200000
DTSTAMP:20260425T082320
CREATED:20250919T124111Z
LAST-MODIFIED:20260218T162303Z
UID:10003468-1759341600-1759348800@kvoasis.com
SUMMARY:Student-Led Tutoring
DESCRIPTION:Wednesday’s from 6pm-8pm. Bring your homework\, bring your friends and enjoy some snacks! A fantastic opportunity to get your school work done in a comfortable and welcoming environment with FREE tutoring from Grade. 11 students\, Mya and Alexa!
URL:https://kvoasis.com/event/student-led-tutoring/2025-10-01/
LOCATION:KV Oasis Youth Centre\, 221 Hampton Road - Unit 4\, Quispamsis\, NB\, E2E 4L8\, Canada
ATTACH;FMTTYPE=image/png:https://kvoasis.com/wp-content/uploads/2025/09/Student-Led-Tutoring-2026-scaled.png
END:VEVENT
BEGIN:VEVENT
DTSTART;TZID=America/Moncton:20250924T180000
DTEND;TZID=America/Moncton:20250924T200000
DTSTAMP:20260425T082320
CREATED:20250919T124111Z
LAST-MODIFIED:20260218T162303Z
UID:10003467-1758736800-1758744000@kvoasis.com
SUMMARY:Student-Led Tutoring
DESCRIPTION:Wednesday’s from 6pm-8pm. Bring your homework\, bring your friends and enjoy some snacks! A fantastic opportunity to get your school work done in a comfortable and welcoming environment with FREE tutoring from Grade. 11 students\, Mya and Alexa!
URL:https://kvoasis.com/event/student-led-tutoring/2025-09-24/
LOCATION:KV Oasis Youth Centre\, 221 Hampton Road - Unit 4\, Quispamsis\, NB\, E2E 4L8\, Canada
ATTACH;FMTTYPE=image/png:https://kvoasis.com/wp-content/uploads/2025/09/Student-Led-Tutoring-2026-scaled.png
END:VEVENT
END:VCALENDAR