BEGIN:VCALENDAR
VERSION:2.0
PRODID:-//KV Oasis Youth Outreach - ECPv6.15.16//NONSGML v1.0//EN
CALSCALE:GREGORIAN
METHOD:PUBLISH
X-ORIGINAL-URL:https://kvoasis.com
X-WR-CALDESC:Events for KV Oasis Youth Outreach
REFRESH-INTERVAL;VALUE=DURATION:PT1H
X-Robots-Tag:noindex
X-PUBLISHED-TTL:PT1H
BEGIN:VTIMEZONE
TZID:America/Moncton
BEGIN:DAYLIGHT
TZOFFSETFROM:-0400
TZOFFSETTO:-0300
TZNAME:ADT
DTSTART:20250309T060000
END:DAYLIGHT
BEGIN:STANDARD
TZOFFSETFROM:-0300
TZOFFSETTO:-0400
TZNAME:AST
DTSTART:20251102T050000
END:STANDARD
BEGIN:DAYLIGHT
TZOFFSETFROM:-0400
TZOFFSETTO:-0300
TZNAME:ADT
DTSTART:20260308T060000
END:DAYLIGHT
BEGIN:STANDARD
TZOFFSETFROM:-0300
TZOFFSETTO:-0400
TZNAME:AST
DTSTART:20261101T050000
END:STANDARD
BEGIN:DAYLIGHT
TZOFFSETFROM:-0400
TZOFFSETTO:-0300
TZNAME:ADT
DTSTART:20270314T060000
END:DAYLIGHT
BEGIN:STANDARD
TZOFFSETFROM:-0300
TZOFFSETTO:-0400
TZNAME:AST
DTSTART:20271107T050000
END:STANDARD
END:VTIMEZONE
BEGIN:VEVENT
DTSTART;TZID=America/Moncton:20260324T120000
DTEND;TZID=America/Moncton:20260324T133000
DTSTAMP:20260424T204528
CREATED:20250919T123527Z
LAST-MODIFIED:20260423T142102Z
UID:10004827-1774353600-1774359000@kvoasis.com
SUMMARY:Baby Oasis
DESCRIPTION:Drop in for Baby Oasis Playgroup every Tuesday!  Location: 221 Hampton Road\, Quispamsis Time: 12:00 pm – 1:30 PM \nThe FIRST TUESDAY of every month\, Public Health will be joining us! \nThis is a wonderful opportunity for parents and caregivers of little ones aged 0-18 months. Not only will your babies develop essential skills\, but you’ll also find social support and enhance your mental health. Plus\, enjoy some coffee\, snacks\, and great company! Let’s make playtime a joyful and supportive experience for everyone!Questions? Reach out to sarah.margeson@kvoasis.com
URL:https://kvoasis.com/event/baby-oasis/2026-03-24/
LOCATION:KV Oasis Youth Centre\, 221 Hampton Road - Unit 4\, Quispamsis\, NB\, E2E 4L8\, Canada
ATTACH;FMTTYPE=image/jpeg:https://kvoasis.com/wp-content/uploads/2025/09/image0-12.jpeg
END:VEVENT
BEGIN:VEVENT
DTSTART;TZID=America/Moncton:20260324T093000
DTEND;TZID=America/Moncton:20260324T110000
DTSTAMP:20260424T204528
CREATED:20260218T162111Z
LAST-MODIFIED:20260218T162111Z
UID:10003210-1774344600-1774350000@kvoasis.com
SUMMARY:Little Wonders
DESCRIPTION:Join us Tuesday’s at St. David’s United Church (in the gym) for a fun\, toddler playgroup! \nAges 0-5 years welcome. Drop in between 9:30-11:00am
URL:https://kvoasis.com/event/little-wonders/2026-03-24/
LOCATION:NB
ATTACH;FMTTYPE=image/png:https://kvoasis.com/wp-content/uploads/2026/02/Pink-and-Yellow-Playful-Childcare-Service-Poster-1-1-scaled.png
END:VEVENT
BEGIN:VEVENT
DTSTART;TZID=America/Moncton:20260322T140000
DTEND;TZID=America/Moncton:20260322T160000
DTSTAMP:20260424T204528
CREATED:20251103T181041Z
LAST-MODIFIED:20251103T181421Z
UID:10002935-1774188000-1774195200@kvoasis.com
SUMMARY:Lego Club
DESCRIPTION:We’re thrilled to announce the launch of our NEW **LEGO Club** at KV Oasis! This fantastic initiative\, led by four of our youth volunteer committee students\, is designed not only to encourage creativity but also to promote crime prevention through positive engagement.\n\n\nBuilding with LEGO fosters teamwork\, communication\, and problem-solving skills\, helping to create a stronger\, safer community. By providing a space for youth to come together\, we aim to reduce the risk of negative influences and encourage friendships built on collaboration and creativity.\n\n\nLocation:** 221 Hampton Road\, Unit #3\, Quispamsis\, NB\nEvery Sunday from 2 PM to 4 PM
URL:https://kvoasis.com/event/lego-club/2026-03-22/
LOCATION:KV Oasis Youth Centre\, 221 Hampton Road - Unit 4\, Quispamsis\, NB\, E2E 4L8\, Canada
ATTACH;FMTTYPE=image/png:https://kvoasis.com/wp-content/uploads/2025/11/kv-scaled.png
END:VEVENT
BEGIN:VEVENT
DTSTART;TZID=America/Moncton:20260320T160000
DTEND;TZID=America/Moncton:20260320T173000
DTSTAMP:20260424T204528
CREATED:20260218T164038Z
LAST-MODIFIED:20260218T164038Z
UID:10004014-1774022400-1774027800@kvoasis.com
SUMMARY:Peer Mentoring
DESCRIPTION:Peer mentoring runs Friday’s from 4:00-5:30pm by registration only. \nChildren will be thoughtfully matched with mentors based on responses from our registration form\, and adult supervision will always be on site during mentoring hours to ensure a safe and supportive environment.Please register your child by completing the form below:https://docs.google.com/…/1FAIpQLScfP3mRlp…/viewform…Interested in becoming a mentor?High school students who are looking to make a difference are encouraged to register as mentors. This opportunity counts toward volunteer hours\, and KV Oasis will track hours and provide students with a volunteer certificate at the end of the school year.Mentors can register using the form below.https://docs.google.com/…/1FAIpQLSdTb9kRYCv…/viewform…Questions?Please contact Sarah: sarah.margeson@kvoasis.com (506) 285-5815
URL:https://kvoasis.com/event/peer-mentoring/2026-03-20/
LOCATION:NB
ATTACH;FMTTYPE=image/png:https://kvoasis.com/wp-content/uploads/2026/02/Blue-and-Yellow-Modern-Afterschool-Program-Flyer.png
END:VEVENT
BEGIN:VEVENT
DTSTART;TZID=America/Moncton:20260319T183000
DTEND;TZID=America/Moncton:20260319T193000
DTSTAMP:20260424T204528
CREATED:20260218T163445Z
LAST-MODIFIED:20260218T163445Z
UID:10003753-1773945000-1773948600@kvoasis.com
SUMMARY:Gamers Lounge
DESCRIPTION:Join us Thursday evenings for a fun\, drop-in gaming event! Come game\, enjoy snacks and company of other peers at KV Oasis.
URL:https://kvoasis.com/event/gamers-lounge/2026-03-19/
LOCATION:KV Oasis Youth Centre\, 221 Hampton Road - Unit 4\, Quispamsis\, NB\, E2E 4L8\, Canada
ATTACH;FMTTYPE=image/png:https://kvoasis.com/wp-content/uploads/2026/02/Dark-Blue-and-Purple-Minimalist-Game-Night-Flyer-1.png
END:VEVENT
BEGIN:VEVENT
DTSTART;TZID=America/Moncton:20260318T180000
DTEND;TZID=America/Moncton:20260318T200000
DTSTAMP:20260424T204528
CREATED:20250919T124111Z
LAST-MODIFIED:20260218T162303Z
UID:10003492-1773856800-1773864000@kvoasis.com
SUMMARY:Student-Led Tutoring
DESCRIPTION:Wednesday’s from 6pm-8pm. Bring your homework\, bring your friends and enjoy some snacks! A fantastic opportunity to get your school work done in a comfortable and welcoming environment with FREE tutoring from Grade. 11 students\, Mya and Alexa!
URL:https://kvoasis.com/event/student-led-tutoring/2026-03-18/
LOCATION:KV Oasis Youth Centre\, 221 Hampton Road - Unit 4\, Quispamsis\, NB\, E2E 4L8\, Canada
ATTACH;FMTTYPE=image/png:https://kvoasis.com/wp-content/uploads/2025/09/Student-Led-Tutoring-2026-scaled.png
END:VEVENT
BEGIN:VEVENT
DTSTART;TZID=America/Moncton:20260317T120000
DTEND;TZID=America/Moncton:20260317T133000
DTSTAMP:20260424T204528
CREATED:20250919T123527Z
LAST-MODIFIED:20260423T142102Z
UID:10004826-1773748800-1773754200@kvoasis.com
SUMMARY:Baby Oasis
DESCRIPTION:Drop in for Baby Oasis Playgroup every Tuesday!  Location: 221 Hampton Road\, Quispamsis Time: 12:00 pm – 1:30 PM \nThe FIRST TUESDAY of every month\, Public Health will be joining us! \nThis is a wonderful opportunity for parents and caregivers of little ones aged 0-18 months. Not only will your babies develop essential skills\, but you’ll also find social support and enhance your mental health. Plus\, enjoy some coffee\, snacks\, and great company! Let’s make playtime a joyful and supportive experience for everyone!Questions? Reach out to sarah.margeson@kvoasis.com
URL:https://kvoasis.com/event/baby-oasis/2026-03-17/
LOCATION:KV Oasis Youth Centre\, 221 Hampton Road - Unit 4\, Quispamsis\, NB\, E2E 4L8\, Canada
ATTACH;FMTTYPE=image/jpeg:https://kvoasis.com/wp-content/uploads/2025/09/image0-12.jpeg
END:VEVENT
BEGIN:VEVENT
DTSTART;TZID=America/Moncton:20260317T093000
DTEND;TZID=America/Moncton:20260317T110000
DTSTAMP:20260424T204528
CREATED:20260218T162111Z
LAST-MODIFIED:20260218T162111Z
UID:10003209-1773739800-1773745200@kvoasis.com
SUMMARY:Little Wonders
DESCRIPTION:Join us Tuesday’s at St. David’s United Church (in the gym) for a fun\, toddler playgroup! \nAges 0-5 years welcome. Drop in between 9:30-11:00am
URL:https://kvoasis.com/event/little-wonders/2026-03-17/
LOCATION:NB
ATTACH;FMTTYPE=image/png:https://kvoasis.com/wp-content/uploads/2026/02/Pink-and-Yellow-Playful-Childcare-Service-Poster-1-1-scaled.png
END:VEVENT
BEGIN:VEVENT
DTSTART;TZID=America/Moncton:20260315T140000
DTEND;TZID=America/Moncton:20260315T160000
DTSTAMP:20260424T204528
CREATED:20251103T181041Z
LAST-MODIFIED:20251103T181421Z
UID:10002934-1773583200-1773590400@kvoasis.com
SUMMARY:Lego Club
DESCRIPTION:We’re thrilled to announce the launch of our NEW **LEGO Club** at KV Oasis! This fantastic initiative\, led by four of our youth volunteer committee students\, is designed not only to encourage creativity but also to promote crime prevention through positive engagement.\n\n\nBuilding with LEGO fosters teamwork\, communication\, and problem-solving skills\, helping to create a stronger\, safer community. By providing a space for youth to come together\, we aim to reduce the risk of negative influences and encourage friendships built on collaboration and creativity.\n\n\nLocation:** 221 Hampton Road\, Unit #3\, Quispamsis\, NB\nEvery Sunday from 2 PM to 4 PM
URL:https://kvoasis.com/event/lego-club/2026-03-15/
LOCATION:KV Oasis Youth Centre\, 221 Hampton Road - Unit 4\, Quispamsis\, NB\, E2E 4L8\, Canada
ATTACH;FMTTYPE=image/png:https://kvoasis.com/wp-content/uploads/2025/11/kv-scaled.png
END:VEVENT
BEGIN:VEVENT
DTSTART;TZID=America/Moncton:20260313T160000
DTEND;TZID=America/Moncton:20260313T173000
DTSTAMP:20260424T204528
CREATED:20260218T164038Z
LAST-MODIFIED:20260218T164038Z
UID:10004013-1773417600-1773423000@kvoasis.com
SUMMARY:Peer Mentoring
DESCRIPTION:Peer mentoring runs Friday’s from 4:00-5:30pm by registration only. \nChildren will be thoughtfully matched with mentors based on responses from our registration form\, and adult supervision will always be on site during mentoring hours to ensure a safe and supportive environment.Please register your child by completing the form below:https://docs.google.com/…/1FAIpQLScfP3mRlp…/viewform…Interested in becoming a mentor?High school students who are looking to make a difference are encouraged to register as mentors. This opportunity counts toward volunteer hours\, and KV Oasis will track hours and provide students with a volunteer certificate at the end of the school year.Mentors can register using the form below.https://docs.google.com/…/1FAIpQLSdTb9kRYCv…/viewform…Questions?Please contact Sarah: sarah.margeson@kvoasis.com (506) 285-5815
URL:https://kvoasis.com/event/peer-mentoring/2026-03-13/
LOCATION:NB
ATTACH;FMTTYPE=image/png:https://kvoasis.com/wp-content/uploads/2026/02/Blue-and-Yellow-Modern-Afterschool-Program-Flyer.png
END:VEVENT
BEGIN:VEVENT
DTSTART;TZID=America/Moncton:20260312T183000
DTEND;TZID=America/Moncton:20260312T193000
DTSTAMP:20260424T204528
CREATED:20260218T163445Z
LAST-MODIFIED:20260218T163445Z
UID:10003752-1773340200-1773343800@kvoasis.com
SUMMARY:Gamers Lounge
DESCRIPTION:Join us Thursday evenings for a fun\, drop-in gaming event! Come game\, enjoy snacks and company of other peers at KV Oasis.
URL:https://kvoasis.com/event/gamers-lounge/2026-03-12/
LOCATION:KV Oasis Youth Centre\, 221 Hampton Road - Unit 4\, Quispamsis\, NB\, E2E 4L8\, Canada
ATTACH;FMTTYPE=image/png:https://kvoasis.com/wp-content/uploads/2026/02/Dark-Blue-and-Purple-Minimalist-Game-Night-Flyer-1.png
END:VEVENT
BEGIN:VEVENT
DTSTART;TZID=America/Moncton:20260311T180000
DTEND;TZID=America/Moncton:20260311T200000
DTSTAMP:20260424T204528
CREATED:20250919T124111Z
LAST-MODIFIED:20260218T162303Z
UID:10003491-1773252000-1773259200@kvoasis.com
SUMMARY:Student-Led Tutoring
DESCRIPTION:Wednesday’s from 6pm-8pm. Bring your homework\, bring your friends and enjoy some snacks! A fantastic opportunity to get your school work done in a comfortable and welcoming environment with FREE tutoring from Grade. 11 students\, Mya and Alexa!
URL:https://kvoasis.com/event/student-led-tutoring/2026-03-11/
LOCATION:KV Oasis Youth Centre\, 221 Hampton Road - Unit 4\, Quispamsis\, NB\, E2E 4L8\, Canada
ATTACH;FMTTYPE=image/png:https://kvoasis.com/wp-content/uploads/2025/09/Student-Led-Tutoring-2026-scaled.png
END:VEVENT
BEGIN:VEVENT
DTSTART;TZID=America/Moncton:20260310T180000
DTEND;TZID=America/Moncton:20260310T190000
DTSTAMP:20260424T204528
CREATED:20260218T170219Z
LAST-MODIFIED:20260218T170219Z
UID:10004273-1773165600-1773169200@kvoasis.com
SUMMARY:Book Club
DESCRIPTION:Join us bi-weekly on Tuesday’s\, from 6:00-7:00pm at KV Oasis for book club! This is for Middle School aged students and we will provide the books. Each meeting will feature an activity and discussion about what we have read so far and then time to relax and read our book in a warm\, cozy space. \nRegistration is required. You can register by emailing sarah.margeson@kvoasis.com
URL:https://kvoasis.com/event/book-club/2026-03-10/
LOCATION:NB
ATTACH;FMTTYPE=image/png:https://kvoasis.com/wp-content/uploads/2026/02/Blue-and-Brown-Simple-Book-of-the-Month-Recommendation-Instagram-Post.png
END:VEVENT
BEGIN:VEVENT
DTSTART;TZID=America/Moncton:20260310T120000
DTEND;TZID=America/Moncton:20260310T133000
DTSTAMP:20260424T204528
CREATED:20250919T123527Z
LAST-MODIFIED:20260423T142102Z
UID:10004825-1773144000-1773149400@kvoasis.com
SUMMARY:Baby Oasis
DESCRIPTION:Drop in for Baby Oasis Playgroup every Tuesday!  Location: 221 Hampton Road\, Quispamsis Time: 12:00 pm – 1:30 PM \nThe FIRST TUESDAY of every month\, Public Health will be joining us! \nThis is a wonderful opportunity for parents and caregivers of little ones aged 0-18 months. Not only will your babies develop essential skills\, but you’ll also find social support and enhance your mental health. Plus\, enjoy some coffee\, snacks\, and great company! Let’s make playtime a joyful and supportive experience for everyone!Questions? Reach out to sarah.margeson@kvoasis.com
URL:https://kvoasis.com/event/baby-oasis/2026-03-10/
LOCATION:KV Oasis Youth Centre\, 221 Hampton Road - Unit 4\, Quispamsis\, NB\, E2E 4L8\, Canada
ATTACH;FMTTYPE=image/jpeg:https://kvoasis.com/wp-content/uploads/2025/09/image0-12.jpeg
END:VEVENT
BEGIN:VEVENT
DTSTART;TZID=America/Moncton:20260310T093000
DTEND;TZID=America/Moncton:20260310T110000
DTSTAMP:20260424T204528
CREATED:20260218T162111Z
LAST-MODIFIED:20260218T162111Z
UID:10003208-1773135000-1773140400@kvoasis.com
SUMMARY:Little Wonders
DESCRIPTION:Join us Tuesday’s at St. David’s United Church (in the gym) for a fun\, toddler playgroup! \nAges 0-5 years welcome. Drop in between 9:30-11:00am
URL:https://kvoasis.com/event/little-wonders/2026-03-10/
LOCATION:NB
ATTACH;FMTTYPE=image/png:https://kvoasis.com/wp-content/uploads/2026/02/Pink-and-Yellow-Playful-Childcare-Service-Poster-1-1-scaled.png
END:VEVENT
BEGIN:VEVENT
DTSTART;TZID=America/Moncton:20260308T140000
DTEND;TZID=America/Moncton:20260308T160000
DTSTAMP:20260424T204528
CREATED:20251103T181041Z
LAST-MODIFIED:20251103T181421Z
UID:10002933-1772978400-1772985600@kvoasis.com
SUMMARY:Lego Club
DESCRIPTION:We’re thrilled to announce the launch of our NEW **LEGO Club** at KV Oasis! This fantastic initiative\, led by four of our youth volunteer committee students\, is designed not only to encourage creativity but also to promote crime prevention through positive engagement.\n\n\nBuilding with LEGO fosters teamwork\, communication\, and problem-solving skills\, helping to create a stronger\, safer community. By providing a space for youth to come together\, we aim to reduce the risk of negative influences and encourage friendships built on collaboration and creativity.\n\n\nLocation:** 221 Hampton Road\, Unit #3\, Quispamsis\, NB\nEvery Sunday from 2 PM to 4 PM
URL:https://kvoasis.com/event/lego-club/2026-03-08/
LOCATION:KV Oasis Youth Centre\, 221 Hampton Road - Unit 4\, Quispamsis\, NB\, E2E 4L8\, Canada
ATTACH;FMTTYPE=image/png:https://kvoasis.com/wp-content/uploads/2025/11/kv-scaled.png
END:VEVENT
BEGIN:VEVENT
DTSTART;TZID=America/Moncton:20260306T160000
DTEND;TZID=America/Moncton:20260306T173000
DTSTAMP:20260424T204528
CREATED:20260218T164038Z
LAST-MODIFIED:20260218T164038Z
UID:10004012-1772812800-1772818200@kvoasis.com
SUMMARY:Peer Mentoring
DESCRIPTION:Peer mentoring runs Friday’s from 4:00-5:30pm by registration only. \nChildren will be thoughtfully matched with mentors based on responses from our registration form\, and adult supervision will always be on site during mentoring hours to ensure a safe and supportive environment.Please register your child by completing the form below:https://docs.google.com/…/1FAIpQLScfP3mRlp…/viewform…Interested in becoming a mentor?High school students who are looking to make a difference are encouraged to register as mentors. This opportunity counts toward volunteer hours\, and KV Oasis will track hours and provide students with a volunteer certificate at the end of the school year.Mentors can register using the form below.https://docs.google.com/…/1FAIpQLSdTb9kRYCv…/viewform…Questions?Please contact Sarah: sarah.margeson@kvoasis.com (506) 285-5815
URL:https://kvoasis.com/event/peer-mentoring/2026-03-06/
LOCATION:NB
ATTACH;FMTTYPE=image/png:https://kvoasis.com/wp-content/uploads/2026/02/Blue-and-Yellow-Modern-Afterschool-Program-Flyer.png
END:VEVENT
BEGIN:VEVENT
DTSTART;TZID=America/Moncton:20260305T183000
DTEND;TZID=America/Moncton:20260305T193000
DTSTAMP:20260424T204528
CREATED:20260218T163445Z
LAST-MODIFIED:20260218T163445Z
UID:10003751-1772735400-1772739000@kvoasis.com
SUMMARY:Gamers Lounge
DESCRIPTION:Join us Thursday evenings for a fun\, drop-in gaming event! Come game\, enjoy snacks and company of other peers at KV Oasis.
URL:https://kvoasis.com/event/gamers-lounge/2026-03-05/
LOCATION:KV Oasis Youth Centre\, 221 Hampton Road - Unit 4\, Quispamsis\, NB\, E2E 4L8\, Canada
ATTACH;FMTTYPE=image/png:https://kvoasis.com/wp-content/uploads/2026/02/Dark-Blue-and-Purple-Minimalist-Game-Night-Flyer-1.png
END:VEVENT
BEGIN:VEVENT
DTSTART;TZID=America/Moncton:20260304T180000
DTEND;TZID=America/Moncton:20260304T200000
DTSTAMP:20260424T204528
CREATED:20250919T124111Z
LAST-MODIFIED:20260218T162303Z
UID:10003490-1772647200-1772654400@kvoasis.com
SUMMARY:Student-Led Tutoring
DESCRIPTION:Wednesday’s from 6pm-8pm. Bring your homework\, bring your friends and enjoy some snacks! A fantastic opportunity to get your school work done in a comfortable and welcoming environment with FREE tutoring from Grade. 11 students\, Mya and Alexa!
URL:https://kvoasis.com/event/student-led-tutoring/2026-03-04/
LOCATION:KV Oasis Youth Centre\, 221 Hampton Road - Unit 4\, Quispamsis\, NB\, E2E 4L8\, Canada
ATTACH;FMTTYPE=image/png:https://kvoasis.com/wp-content/uploads/2025/09/Student-Led-Tutoring-2026-scaled.png
END:VEVENT
BEGIN:VEVENT
DTSTART;TZID=America/Moncton:20260304T090000
DTEND;TZID=America/Moncton:20260304T160000
DTSTAMP:20260424T204528
CREATED:20260218T165759Z
LAST-MODIFIED:20260218T165759Z
UID:10004271-1772614800-1772640000@kvoasis.com
SUMMARY:Babysitting Course
DESCRIPTION:Not sure what to do on March Break? We’ve got you covered!The Babysitting Course will be held at KV Oasis (221 Hampton Road) on March. 4 from 9am-4pm. If we exceed 20 registrations the location is subject to change. Parent participation is required from 3:30-4:00pm.The course has a registration fee of $75.00. ALL PROCEEDS will be donated to KV Oasis\, a HUGE thank you to Rino Méthot!Register Here:https://docs.google.com/…/1FAIpQLSeQVZvQDF…/viewform…
URL:https://kvoasis.com/event/babysitting-course/
LOCATION:NB
ATTACH;FMTTYPE=image/png:https://kvoasis.com/wp-content/uploads/2026/02/wE.png
END:VEVENT
BEGIN:VEVENT
DTSTART;TZID=America/Moncton:20260303T120000
DTEND;TZID=America/Moncton:20260303T133000
DTSTAMP:20260424T204528
CREATED:20250919T123527Z
LAST-MODIFIED:20260423T142102Z
UID:10004824-1772539200-1772544600@kvoasis.com
SUMMARY:Baby Oasis
DESCRIPTION:Drop in for Baby Oasis Playgroup every Tuesday!  Location: 221 Hampton Road\, Quispamsis Time: 12:00 pm – 1:30 PM \nThe FIRST TUESDAY of every month\, Public Health will be joining us! \nThis is a wonderful opportunity for parents and caregivers of little ones aged 0-18 months. Not only will your babies develop essential skills\, but you’ll also find social support and enhance your mental health. Plus\, enjoy some coffee\, snacks\, and great company! Let’s make playtime a joyful and supportive experience for everyone!Questions? Reach out to sarah.margeson@kvoasis.com
URL:https://kvoasis.com/event/baby-oasis/2026-03-03/
LOCATION:KV Oasis Youth Centre\, 221 Hampton Road - Unit 4\, Quispamsis\, NB\, E2E 4L8\, Canada
ATTACH;FMTTYPE=image/jpeg:https://kvoasis.com/wp-content/uploads/2025/09/image0-12.jpeg
END:VEVENT
BEGIN:VEVENT
DTSTART;TZID=America/Moncton:20260303T093000
DTEND;TZID=America/Moncton:20260303T110000
DTSTAMP:20260424T204528
CREATED:20260218T162111Z
LAST-MODIFIED:20260218T162111Z
UID:10003207-1772530200-1772535600@kvoasis.com
SUMMARY:Little Wonders
DESCRIPTION:Join us Tuesday’s at St. David’s United Church (in the gym) for a fun\, toddler playgroup! \nAges 0-5 years welcome. Drop in between 9:30-11:00am
URL:https://kvoasis.com/event/little-wonders/2026-03-03/
LOCATION:NB
ATTACH;FMTTYPE=image/png:https://kvoasis.com/wp-content/uploads/2026/02/Pink-and-Yellow-Playful-Childcare-Service-Poster-1-1-scaled.png
END:VEVENT
BEGIN:VEVENT
DTSTART;TZID=America/Moncton:20260301T140000
DTEND;TZID=America/Moncton:20260301T160000
DTSTAMP:20260424T204528
CREATED:20251103T181041Z
LAST-MODIFIED:20251103T181421Z
UID:10002932-1772373600-1772380800@kvoasis.com
SUMMARY:Lego Club
DESCRIPTION:We’re thrilled to announce the launch of our NEW **LEGO Club** at KV Oasis! This fantastic initiative\, led by four of our youth volunteer committee students\, is designed not only to encourage creativity but also to promote crime prevention through positive engagement.\n\n\nBuilding with LEGO fosters teamwork\, communication\, and problem-solving skills\, helping to create a stronger\, safer community. By providing a space for youth to come together\, we aim to reduce the risk of negative influences and encourage friendships built on collaboration and creativity.\n\n\nLocation:** 221 Hampton Road\, Unit #3\, Quispamsis\, NB\nEvery Sunday from 2 PM to 4 PM
URL:https://kvoasis.com/event/lego-club/2026-03-01/
LOCATION:KV Oasis Youth Centre\, 221 Hampton Road - Unit 4\, Quispamsis\, NB\, E2E 4L8\, Canada
ATTACH;FMTTYPE=image/png:https://kvoasis.com/wp-content/uploads/2025/11/kv-scaled.png
END:VEVENT
BEGIN:VEVENT
DTSTART;TZID=America/Moncton:20260227T160000
DTEND;TZID=America/Moncton:20260227T173000
DTSTAMP:20260424T204528
CREATED:20260218T164038Z
LAST-MODIFIED:20260218T164038Z
UID:10004011-1772208000-1772213400@kvoasis.com
SUMMARY:Peer Mentoring
DESCRIPTION:Peer mentoring runs Friday’s from 4:00-5:30pm by registration only. \nChildren will be thoughtfully matched with mentors based on responses from our registration form\, and adult supervision will always be on site during mentoring hours to ensure a safe and supportive environment.Please register your child by completing the form below:https://docs.google.com/…/1FAIpQLScfP3mRlp…/viewform…Interested in becoming a mentor?High school students who are looking to make a difference are encouraged to register as mentors. This opportunity counts toward volunteer hours\, and KV Oasis will track hours and provide students with a volunteer certificate at the end of the school year.Mentors can register using the form below.https://docs.google.com/…/1FAIpQLSdTb9kRYCv…/viewform…Questions?Please contact Sarah: sarah.margeson@kvoasis.com (506) 285-5815
URL:https://kvoasis.com/event/peer-mentoring/2026-02-27/
LOCATION:NB
ATTACH;FMTTYPE=image/png:https://kvoasis.com/wp-content/uploads/2026/02/Blue-and-Yellow-Modern-Afterschool-Program-Flyer.png
END:VEVENT
BEGIN:VEVENT
DTSTART;TZID=America/Moncton:20260226T183000
DTEND;TZID=America/Moncton:20260226T193000
DTSTAMP:20260424T204528
CREATED:20260218T163445Z
LAST-MODIFIED:20260218T163445Z
UID:10003750-1772130600-1772134200@kvoasis.com
SUMMARY:Gamers Lounge
DESCRIPTION:Join us Thursday evenings for a fun\, drop-in gaming event! Come game\, enjoy snacks and company of other peers at KV Oasis.
URL:https://kvoasis.com/event/gamers-lounge/2026-02-26/
LOCATION:KV Oasis Youth Centre\, 221 Hampton Road - Unit 4\, Quispamsis\, NB\, E2E 4L8\, Canada
ATTACH;FMTTYPE=image/png:https://kvoasis.com/wp-content/uploads/2026/02/Dark-Blue-and-Purple-Minimalist-Game-Night-Flyer-1.png
END:VEVENT
BEGIN:VEVENT
DTSTART;TZID=America/Moncton:20260225T180000
DTEND;TZID=America/Moncton:20260225T200000
DTSTAMP:20260424T204528
CREATED:20250919T124111Z
LAST-MODIFIED:20260218T162303Z
UID:10003489-1772042400-1772049600@kvoasis.com
SUMMARY:Student-Led Tutoring
DESCRIPTION:Wednesday’s from 6pm-8pm. Bring your homework\, bring your friends and enjoy some snacks! A fantastic opportunity to get your school work done in a comfortable and welcoming environment with FREE tutoring from Grade. 11 students\, Mya and Alexa!
URL:https://kvoasis.com/event/student-led-tutoring/2026-02-25/
LOCATION:KV Oasis Youth Centre\, 221 Hampton Road - Unit 4\, Quispamsis\, NB\, E2E 4L8\, Canada
ATTACH;FMTTYPE=image/png:https://kvoasis.com/wp-content/uploads/2025/09/Student-Led-Tutoring-2026-scaled.png
END:VEVENT
BEGIN:VEVENT
DTSTART;TZID=America/Moncton:20260224T180000
DTEND;TZID=America/Moncton:20260224T190000
DTSTAMP:20260424T204528
CREATED:20260218T170219Z
LAST-MODIFIED:20260218T170219Z
UID:10004272-1771956000-1771959600@kvoasis.com
SUMMARY:Book Club
DESCRIPTION:Join us bi-weekly on Tuesday’s\, from 6:00-7:00pm at KV Oasis for book club! This is for Middle School aged students and we will provide the books. Each meeting will feature an activity and discussion about what we have read so far and then time to relax and read our book in a warm\, cozy space. \nRegistration is required. You can register by emailing sarah.margeson@kvoasis.com
URL:https://kvoasis.com/event/book-club/2026-02-24/
LOCATION:NB
ATTACH;FMTTYPE=image/png:https://kvoasis.com/wp-content/uploads/2026/02/Blue-and-Brown-Simple-Book-of-the-Month-Recommendation-Instagram-Post.png
END:VEVENT
BEGIN:VEVENT
DTSTART;TZID=America/Moncton:20260224T120000
DTEND;TZID=America/Moncton:20260224T133000
DTSTAMP:20260424T204528
CREATED:20250919T123527Z
LAST-MODIFIED:20260423T142102Z
UID:10004823-1771934400-1771939800@kvoasis.com
SUMMARY:Baby Oasis
DESCRIPTION:Drop in for Baby Oasis Playgroup every Tuesday!  Location: 221 Hampton Road\, Quispamsis Time: 12:00 pm – 1:30 PM \nThe FIRST TUESDAY of every month\, Public Health will be joining us! \nThis is a wonderful opportunity for parents and caregivers of little ones aged 0-18 months. Not only will your babies develop essential skills\, but you’ll also find social support and enhance your mental health. Plus\, enjoy some coffee\, snacks\, and great company! Let’s make playtime a joyful and supportive experience for everyone!Questions? Reach out to sarah.margeson@kvoasis.com
URL:https://kvoasis.com/event/baby-oasis/2026-02-24/
LOCATION:KV Oasis Youth Centre\, 221 Hampton Road - Unit 4\, Quispamsis\, NB\, E2E 4L8\, Canada
ATTACH;FMTTYPE=image/jpeg:https://kvoasis.com/wp-content/uploads/2025/09/image0-12.jpeg
END:VEVENT
BEGIN:VEVENT
DTSTART;TZID=America/Moncton:20260224T093000
DTEND;TZID=America/Moncton:20260224T110000
DTSTAMP:20260424T204528
CREATED:20260218T162111Z
LAST-MODIFIED:20260218T162111Z
UID:10003206-1771925400-1771930800@kvoasis.com
SUMMARY:Little Wonders
DESCRIPTION:Join us Tuesday’s at St. David’s United Church (in the gym) for a fun\, toddler playgroup! \nAges 0-5 years welcome. Drop in between 9:30-11:00am
URL:https://kvoasis.com/event/little-wonders/2026-02-24/
LOCATION:NB
ATTACH;FMTTYPE=image/png:https://kvoasis.com/wp-content/uploads/2026/02/Pink-and-Yellow-Playful-Childcare-Service-Poster-1-1-scaled.png
END:VEVENT
BEGIN:VEVENT
DTSTART;TZID=America/Moncton:20260222T140000
DTEND;TZID=America/Moncton:20260222T160000
DTSTAMP:20260424T204528
CREATED:20251103T181041Z
LAST-MODIFIED:20251103T181421Z
UID:10002931-1771768800-1771776000@kvoasis.com
SUMMARY:Lego Club
DESCRIPTION:We’re thrilled to announce the launch of our NEW **LEGO Club** at KV Oasis! This fantastic initiative\, led by four of our youth volunteer committee students\, is designed not only to encourage creativity but also to promote crime prevention through positive engagement.\n\n\nBuilding with LEGO fosters teamwork\, communication\, and problem-solving skills\, helping to create a stronger\, safer community. By providing a space for youth to come together\, we aim to reduce the risk of negative influences and encourage friendships built on collaboration and creativity.\n\n\nLocation:** 221 Hampton Road\, Unit #3\, Quispamsis\, NB\nEvery Sunday from 2 PM to 4 PM
URL:https://kvoasis.com/event/lego-club/2026-02-22/
LOCATION:KV Oasis Youth Centre\, 221 Hampton Road - Unit 4\, Quispamsis\, NB\, E2E 4L8\, Canada
ATTACH;FMTTYPE=image/png:https://kvoasis.com/wp-content/uploads/2025/11/kv-scaled.png
END:VEVENT
END:VCALENDAR